BEGIN:VCALENDAR
VERSION:2.0
PRODID:-//Adham Somantrie/AyoLari.in//NONSGML v1.0//EN
CALSCALE:GREGORIAN
BEGIN:VEVENT
UID:26588e932c7ccfa1df309280702fe1b5
DTSTAMP:20260420T051101Z
LOCATION:Semarang\, Jawa Tengah
DESCRIPTION:ayolari.in
URL;VALUE=URI:https://ayolari.in/lomba/l4ri-run-by-asosiasi-alumni-jesuit-indonesia-gp-ansor
SUMMARY:L4RI Run by Asosiasi Alumni Jesuit Indonesia & GP ANSOR
DTSTART;VALUE=DATE;TZID=ASIA-JAKARTA:20181014
DTEND;VALUE=DATE;TZID=ASIA-JAKARTA:20181015
TRANSP:TRANSPARENT
END:VEVENT
END:VCALENDAR