BEGIN:VCALENDAR
VERSION:2.0
PRODID:-//Adham Somantrie/AyoLari.in//NONSGML v1.0//EN
CALSCALE:GREGORIAN
BEGIN:VEVENT
UID:cd758e8f59dfdf06a852adad277986ca
DTSTAMP:20260420T115518Z
LOCATION:Semarang
DESCRIPTION:ayolari.in
URL;VALUE=URI:https://ayolari.in/lomba/semarang-10k
SUMMARY:Semarang 10K
DTSTART;VALUE=DATE;TZID=ASIA-JAKARTA:20181216
DTEND;VALUE=DATE;TZID=ASIA-JAKARTA:20181217
TRANSP:TRANSPARENT
END:VEVENT
END:VCALENDAR