BEGIN:VCALENDAR
VERSION:2.0
PRODID:-//Adham Somantrie/AyoLari.in//NONSGML v1.0//EN
CALSCALE:GREGORIAN
BEGIN:VEVENT
UID:3bf55bbad370a8fcad1d09b005e278c2
DTSTAMP:20260420T081059Z
LOCATION:Virtual Run
DESCRIPTION:ayolari.in
URL;VALUE=URI:https://ayolari.in/lomba/lombok-bangkit-run-2018
SUMMARY:Lombok Bangkit Run 2018
DTSTART;VALUE=DATE;TZID=ASIA-JAKARTA:20180901
DTEND;VALUE=DATE;TZID=ASIA-JAKARTA:20180902
TRANSP:TRANSPARENT
END:VEVENT
END:VCALENDAR