BEGIN:VCALENDAR
VERSION:2.0
PRODID:-//Adham Somantrie/AyoLari.in//NONSGML v1.0//EN
CALSCALE:GREGORIAN
BEGIN:VEVENT
UID:a284df1155ec3e67286080500df36a9a
DTSTAMP:20260421T203459Z
LOCATION:Bali
DESCRIPTION:ayolari.in
URL;VALUE=URI:https://ayolari.in/lomba/mandiri-badung-international-night-run
SUMMARY:Mandiri Badung International Night Run
DTSTART;VALUE=DATE;TZID=ASIA-JAKARTA:20180930
DTEND;VALUE=DATE;TZID=ASIA-JAKARTA:20181001
TRANSP:TRANSPARENT
END:VEVENT
END:VCALENDAR