BEGIN:VCALENDAR
VERSION:2.0
PRODID:-//Adham Somantrie/AyoLari.in//NONSGML v1.0//EN
CALSCALE:GREGORIAN
BEGIN:VEVENT
UID:838e8afb1ca34354ac209f53d90c3a43
DTSTAMP:20260420T040648Z
LOCATION:Yogyakarta
DESCRIPTION:ayolari.in
URL;VALUE=URI:https://ayolari.in/lomba/alana-jogja-run-75k
SUMMARY:Alana Jogja Run 7.5K
DTSTART;VALUE=DATE;TZID=ASIA-JAKARTA:20180909
DTEND;VALUE=DATE;TZID=ASIA-JAKARTA:20180910
TRANSP:TRANSPARENT
END:VEVENT
END:VCALENDAR