BEGIN:VCALENDAR
VERSION:2.0
PRODID:-//Adham Somantrie/AyoLari.in//NONSGML v1.0//EN
CALSCALE:GREGORIAN
BEGIN:VEVENT
UID:81e5f81db77c596492e6f1a5a792ed53
DTSTAMP:20260420T023654Z
LOCATION:Palembang
DESCRIPTION:ayolari.in
URL;VALUE=URI:https://ayolari.in/lomba/5k-run-against-sepsis
SUMMARY:5K Run Against Sepsis
DTSTART;VALUE=DATE;TZID=ASIA-JAKARTA:20180916
DTEND;VALUE=DATE;TZID=ASIA-JAKARTA:20180917
TRANSP:TRANSPARENT
END:VEVENT
END:VCALENDAR