BEGIN:VCALENDAR
VERSION:2.0
PRODID:-//Adham Somantrie/AyoLari.in//NONSGML v1.0//EN
CALSCALE:GREGORIAN
BEGIN:VEVENT
UID:39e4973ba3321b80f37d9b55f63ed8b8
DTSTAMP:20260420T051055Z
LOCATION:Magelang
DESCRIPTION:ayolari.in
URL;VALUE=URI:https://ayolari.in/lomba/ksp-panca-mandiri-sejahtera-fun-run-2018
SUMMARY:KSP Panca Mandiri Sejahtera Fun Run 2018
DTSTART;VALUE=DATE;TZID=ASIA-JAKARTA:20181028
DTEND;VALUE=DATE;TZID=ASIA-JAKARTA:20181029
TRANSP:TRANSPARENT
END:VEVENT
END:VCALENDAR