BEGIN:VCALENDAR
VERSION:2.0
PRODID:-//Adham Somantrie/AyoLari.in//NONSGML v1.0//EN
CALSCALE:GREGORIAN
BEGIN:VEVENT
UID:905056c1ac1dad141560467e0a99e1cf
DTSTAMP:20260420T081349Z
LOCATION:Jakarta
DESCRIPTION:ayolari.in
URL;VALUE=URI:https://ayolari.in/lomba/aviators-fun-walk-run-5k-2018
SUMMARY:Aviators Fun Walk & Run 5K 2018
DTSTART;VALUE=DATE;TZID=ASIA-JAKARTA:20180923
DTEND;VALUE=DATE;TZID=ASIA-JAKARTA:20180924
TRANSP:TRANSPARENT
END:VEVENT
END:VCALENDAR