BEGIN:VCALENDAR
VERSION:2.0
PRODID:-//Adham Somantrie/AyoLari.in//NONSGML v1.0//EN
CALSCALE:GREGORIAN
BEGIN:VEVENT
UID:5eac43aceba42c8757b54003a58277b5
DTSTAMP:20260420T022932Z
LOCATION:Kota Madiun
DESCRIPTION:ayolari.in
URL;VALUE=URI:https://ayolari.in/lomba/charismatic-10k-run
SUMMARY:Charismatic 10K Run
DTSTART;VALUE=DATE;TZID=ASIA-JAKARTA:20180909
DTEND;VALUE=DATE;TZID=ASIA-JAKARTA:20180910
TRANSP:TRANSPARENT
END:VEVENT
END:VCALENDAR