BEGIN:VCALENDAR
VERSION:2.0
PRODID:-//Adham Somantrie/AyoLari.in//NONSGML v1.0//EN
CALSCALE:GREGORIAN
BEGIN:VEVENT
UID:2de5d16682c3c35007e4e92982f1a2ba
DTSTAMP:20260420T023757Z
LOCATION:Gresik
DESCRIPTION:ayolari.in
URL;VALUE=URI:https://ayolari.in/lomba/semen-indonesia-trail-run-2018
SUMMARY:Semen Indonesia Trail Run 2018
DTSTART;VALUE=DATE;TZID=ASIA-JAKARTA:20181111
DTEND;VALUE=DATE;TZID=ASIA-JAKARTA:20181112
TRANSP:TRANSPARENT
END:VEVENT
END:VCALENDAR