BEGIN:VCALENDAR
VERSION:2.0
PRODID:-//Adham Somantrie/AyoLari.in//NONSGML v1.0//EN
CALSCALE:GREGORIAN
BEGIN:VEVENT
UID:a9078e8653368c9c291ae2f8b74012e7
DTSTAMP:20260421T220857Z
LOCATION:Virtual Run
DESCRIPTION:ayolari.in
URL;VALUE=URI:https://ayolari.in/lomba/sangsaka-run-free
SUMMARY:Sangsaka Run - FREE
DTSTART;VALUE=DATE;TZID=ASIA-JAKARTA:20180826
DTEND;VALUE=DATE;TZID=ASIA-JAKARTA:20180827
TRANSP:TRANSPARENT
END:VEVENT
END:VCALENDAR