BEGIN:VCALENDAR
VERSION:2.0
PRODID:-//Adham Somantrie/AyoLari.in//NONSGML v1.0//EN
CALSCALE:GREGORIAN
BEGIN:VEVENT
UID:b3ba8f1bee1238a2f37603d90b58898d
DTSTAMP:20260420T051209Z
LOCATION:Anyer\, Kab. Serang
DESCRIPTION:ayolari.in
URL;VALUE=URI:https://ayolari.in/lomba/anyer-krakatau-culture-festival-10k
SUMMARY:Anyer Krakatau Culture Festival 10K
DTSTART;VALUE=DATE;TZID=ASIA-JAKARTA:20180916
DTEND;VALUE=DATE;TZID=ASIA-JAKARTA:20180917
TRANSP:TRANSPARENT
END:VEVENT
END:VCALENDAR