BEGIN:VCALENDAR
VERSION:2.0
PRODID:-//Adham Somantrie/AyoLari.in//NONSGML v1.0//EN
CALSCALE:GREGORIAN
BEGIN:VEVENT
UID:d38901788c533e8286cb6400b40b386d
DTSTAMP:20260420T081725Z
LOCATION:Tretes Prigen Pasuruan
DESCRIPTION:ayolari.in
URL;VALUE=URI:https://ayolari.in/lomba/tretes-10k-night-run-2018
SUMMARY:Tretes 10K Night Run 2018
DTSTART;VALUE=DATE;TZID=ASIA-JAKARTA:20181201
DTEND;VALUE=DATE;TZID=ASIA-JAKARTA:20181202
TRANSP:TRANSPARENT
END:VEVENT
END:VCALENDAR