BEGIN:VCALENDAR
VERSION:2.0
PRODID:-//Adham Somantrie/AyoLari.in//NONSGML v1.0//EN
CALSCALE:GREGORIAN
BEGIN:VEVENT
UID:a9eb812238f753132652ae09963a05e9
DTSTAMP:20260420T081339Z
LOCATION:Kuta\, Bali
DESCRIPTION:ayolari.in
URL;VALUE=URI:https://ayolari.in/lomba/rock-n-run-2018
SUMMARY:Rock N Run 2018
DTSTART;VALUE=DATE;TZID=ASIA-JAKARTA:20180930
DTEND;VALUE=DATE;TZID=ASIA-JAKARTA:20181001
TRANSP:TRANSPARENT
END:VEVENT
END:VCALENDAR