BEGIN:VCALENDAR
VERSION:2.0
PRODID:-//Adham Somantrie/AyoLari.in//NONSGML v1.0//EN
CALSCALE:GREGORIAN
BEGIN:VEVENT
UID:81dc9bdb52d04dc20036dbd8313ed055
DTSTAMP:20260420T081237Z
LOCATION:Ambarawa
DESCRIPTION:ayolari.in
URL;VALUE=URI:https://ayolari.in/lomba/ambarawa-heritage-run-2018
SUMMARY:Ambarawa Heritage Run 2018
DTSTART;VALUE=DATE;TZID=ASIA-JAKARTA:20181104
DTEND;VALUE=DATE;TZID=ASIA-JAKARTA:20181105
TRANSP:TRANSPARENT
END:VEVENT
END:VCALENDAR