BEGIN:VCALENDAR
VERSION:2.0
PRODID:-//Adham Somantrie/AyoLari.in//NONSGML v1.0//EN
CALSCALE:GREGORIAN
BEGIN:VEVENT
UID:e034fb6b66aacc1d48f445ddfb08da98
DTSTAMP:20260420T023455Z
LOCATION:Virtual Run
DESCRIPTION:ayolari.in
URL;VALUE=URI:https://ayolari.in/lomba/indorunners-bali-6th-anniversary
SUMMARY:IndoRunners Bali 6th Anniversary
DTSTART;VALUE=DATE;TZID=ASIA-JAKARTA:20180819
DTEND;VALUE=DATE;TZID=ASIA-JAKARTA:20180820
TRANSP:TRANSPARENT
END:VEVENT
END:VCALENDAR