BEGIN:VCALENDAR
VERSION:2.0
PRODID:-//Adham Somantrie/AyoLari.in//NONSGML v1.0//EN
CALSCALE:GREGORIAN
BEGIN:VEVENT
UID:6c14da109e294d1e8155be8aa4b1ce8e
DTSTAMP:20260420T115507Z
LOCATION:Jakarta
DESCRIPTION:ayolari.in
URL;VALUE=URI:https://ayolari.in/lomba/freedoms-run-2018-virtual-race
SUMMARY:Freedoms Run 2018 Virtual Race
DTSTART;VALUE=DATE;TZID=ASIA-JAKARTA:20180817
DTEND;VALUE=DATE;TZID=ASIA-JAKARTA:20180818
TRANSP:TRANSPARENT
END:VEVENT
END:VCALENDAR