BEGIN:VCALENDAR
VERSION:2.0
PRODID:-//Adham Somantrie/AyoLari.in//NONSGML v1.0//EN
CALSCALE:GREGORIAN
BEGIN:VEVENT
UID:68d13cf26c4b4f4f932e3eff990093ba
DTSTAMP:20260420T051208Z
LOCATION:Padang
DESCRIPTION:ayolari.in
URL;VALUE=URI:https://ayolari.in/lomba/indonesia-color-run-padang-2018
SUMMARY:Indonesia Color Run Padang 2018
DTSTART;VALUE=DATE;TZID=ASIA-JAKARTA:20180726
DTEND;VALUE=DATE;TZID=ASIA-JAKARTA:20180727
TRANSP:TRANSPARENT
END:VEVENT
END:VCALENDAR