BEGIN:VCALENDAR
VERSION:2.0
PRODID:-//Adham Somantrie/AyoLari.in//NONSGML v1.0//EN
CALSCALE:GREGORIAN
BEGIN:VEVENT
UID:4e4e53aa080247bc31d0eb4e7aeb07a0
DTSTAMP:20260420T051344Z
LOCATION:Yogyakarta
DESCRIPTION:ayolari.in
URL;VALUE=URI:https://ayolari.in/lomba/adisutjipto-dirgantara-four-fun-2018
SUMMARY:Adisutjipto Dirgantara Four Fun 2018
DTSTART;VALUE=DATE;TZID=ASIA-JAKARTA:20181007
DTEND;VALUE=DATE;TZID=ASIA-JAKARTA:20181008
TRANSP:TRANSPARENT
END:VEVENT
END:VCALENDAR