BEGIN:VCALENDAR
VERSION:2.0
PRODID:-//Adham Somantrie/AyoLari.in//NONSGML v1.0//EN
CALSCALE:GREGORIAN
BEGIN:VEVENT
UID:144a3f71a03ab7c4f46f9656608efdb2
DTSTAMP:20260421T232015Z
LOCATION:Padang
DESCRIPTION:ayolari.in
URL;VALUE=URI:https://ayolari.in/lomba/padang-kulinerun-2018
SUMMARY:Padang Kulinerun 2018
DTSTART;VALUE=DATE;TZID=ASIA-JAKARTA:20180930
DTEND;VALUE=DATE;TZID=ASIA-JAKARTA:20181001
TRANSP:TRANSPARENT
END:VEVENT
END:VCALENDAR