BEGIN:VCALENDAR
VERSION:2.0
PRODID:-//Adham Somantrie/AyoLari.in//NONSGML v1.0//EN
CALSCALE:GREGORIAN
BEGIN:VEVENT
UID:fb2fcd534b0ff3bbed73cc51df620323
DTSTAMP:20260420T040815Z
LOCATION:Tabanan\, Bali
DESCRIPTION:ayolari.in
URL;VALUE=URI:https://ayolari.in/lomba/buyan-jungle-run
SUMMARY:Buyan Jungle Run
DTSTART;VALUE=DATE;TZID=ASIA-JAKARTA:20180805
DTEND;VALUE=DATE;TZID=ASIA-JAKARTA:20180806
TRANSP:TRANSPARENT
END:VEVENT
END:VCALENDAR