BEGIN:VCALENDAR
VERSION:2.0
PRODID:-//Adham Somantrie/AyoLari.in//NONSGML v1.0//EN
CALSCALE:GREGORIAN
BEGIN:VEVENT
UID:da4fb5c6e93e74d3df8527599fa62642
DTSTAMP:20260420T234517Z
LOCATION:Jakarta
DESCRIPTION:ayolari.in
URL;VALUE=URI:https://ayolari.in/lomba/asean-fun-run-5k
SUMMARY:ASEAN Fun Run 5K
DTSTART;VALUE=DATE;TZID=ASIA-JAKARTA:20140810
DTEND;VALUE=DATE;TZID=ASIA-JAKARTA:20140811
TRANSP:TRANSPARENT
END:VEVENT
END:VCALENDAR