BEGIN:VCALENDAR
VERSION:2.0
PRODID:-//Adham Somantrie/AyoLari.in//NONSGML v1.0//EN
CALSCALE:GREGORIAN
BEGIN:VEVENT
UID:0188e8b8b014829e2fa0f430f0a95961
DTSTAMP:20260420T034849Z
LOCATION:Bali
DESCRIPTION:ayolari.in
URL;VALUE=URI:https://ayolari.in/lomba/canggu-fun-run-2018
SUMMARY:Canggu Fun Run 2018
DTSTART;VALUE=DATE;TZID=ASIA-JAKARTA:20180819
DTEND;VALUE=DATE;TZID=ASIA-JAKARTA:20180820
TRANSP:TRANSPARENT
END:VEVENT
END:VCALENDAR