BEGIN:VCALENDAR
VERSION:2.0
PRODID:-//Adham Somantrie/AyoLari.in//NONSGML v1.0//EN
CALSCALE:GREGORIAN
BEGIN:VEVENT
UID:a42a596fc71e17828440030074d15e74
DTSTAMP:20260420T081035Z
LOCATION:Virtual Run
DESCRIPTION:ayolari.in
URL;VALUE=URI:https://ayolari.in/lomba/88virtualrace-1st-anniversary-run
SUMMARY:88VirtualRace 1st Anniversary Run
DTSTART;VALUE=DATE;TZID=ASIA-JAKARTA:20180728
DTEND;VALUE=DATE;TZID=ASIA-JAKARTA:20180729
TRANSP:TRANSPARENT
END:VEVENT
END:VCALENDAR