BEGIN:VCALENDAR
VERSION:2.0
PRODID:-//Adham Somantrie/AyoLari.in//NONSGML v1.0//EN
CALSCALE:GREGORIAN
BEGIN:VEVENT
UID:52292e0c763fd027c6eba6b8f494d2eb
DTSTAMP:20260420T023653Z
LOCATION:Boyolali
DESCRIPTION:ayolari.in
URL;VALUE=URI:https://ayolari.in/lomba/boyolali-berlari-7k-2018
SUMMARY:Boyolali Berlari 7K 2018
DTSTART;VALUE=DATE;TZID=ASIA-JAKARTA:20180916
DTEND;VALUE=DATE;TZID=ASIA-JAKARTA:20180917
TRANSP:TRANSPARENT
END:VEVENT
END:VCALENDAR