BEGIN:VCALENDAR
VERSION:2.0
PRODID:-//Adham Somantrie/AyoLari.in//NONSGML v1.0//EN
CALSCALE:GREGORIAN
BEGIN:VEVENT
UID:b20bb95ab626d93fd976af958fbc61ba
DTSTAMP:20260421T203647Z
LOCATION:Palu\, Sulawesi Tengah
DESCRIPTION:ayolari.in
URL;VALUE=URI:https://ayolari.in/lomba/marathon-palu-nomoni-2018
SUMMARY:Marathon Palu Nomoni 2018
DTSTART;VALUE=DATE;TZID=ASIA-JAKARTA:20180930
DTEND;VALUE=DATE;TZID=ASIA-JAKARTA:20181001
TRANSP:TRANSPARENT
END:VEVENT
END:VCALENDAR