BEGIN:VCALENDAR
VERSION:2.0
PRODID:-//Adham Somantrie/AyoLari.in//NONSGML v1.0//EN
CALSCALE:GREGORIAN
BEGIN:VEVENT
UID:160c88652d47d0be60bfbfed25111412
DTSTAMP:20260420T023751Z
LOCATION:Lembang\, Bandung Barat
DESCRIPTION:ayolari.in
URL;VALUE=URI:https://ayolari.in/lomba/air-force-run-a-55
SUMMARY:AIR FORCE RUN A-55
DTSTART;VALUE=DATE;TZID=ASIA-JAKARTA:20180804
DTEND;VALUE=DATE;TZID=ASIA-JAKARTA:20180805
TRANSP:TRANSPARENT
END:VEVENT
END:VCALENDAR