BEGIN:VCALENDAR
VERSION:2.0
PRODID:-//Adham Somantrie/AyoLari.in//NONSGML v1.0//EN
CALSCALE:GREGORIAN
BEGIN:VEVENT
UID:c44e503833b64e9f27197a484f4257c0
DTSTAMP:20260420T081037Z
LOCATION:Surabaya
DESCRIPTION:ayolari.in
URL;VALUE=URI:https://ayolari.in/lomba/wonder-woman-run-2018
SUMMARY:Wonder Woman Run 2018
DTSTART;VALUE=DATE;TZID=ASIA-JAKARTA:20180930
DTEND;VALUE=DATE;TZID=ASIA-JAKARTA:20181001
TRANSP:TRANSPARENT
END:VEVENT
END:VCALENDAR