BEGIN:VCALENDAR
VERSION:2.0
PRODID:-//Adham Somantrie/AyoLari.in//NONSGML v1.0//EN
CALSCALE:GREGORIAN
BEGIN:VEVENT
UID:2b6d65b9a9445c4271ab9076ead5605a
DTSTAMP:20260420T023414Z
LOCATION:Nusa Dua\, Bali
DESCRIPTION:ayolari.in
URL;VALUE=URI:https://ayolari.in/lomba/jb-school-fun-run-2018-run-to-the-west
SUMMARY:JB School Fun Run 2018 - Run To The West
DTSTART;VALUE=DATE;TZID=ASIA-JAKARTA:20180916
DTEND;VALUE=DATE;TZID=ASIA-JAKARTA:20180917
TRANSP:TRANSPARENT
END:VEVENT
END:VCALENDAR