BEGIN:VCALENDAR
VERSION:2.0
PRODID:-//Adham Somantrie/AyoLari.in//NONSGML v1.0//EN
CALSCALE:GREGORIAN
BEGIN:VEVENT
UID:97af4fb322bb5c8973ade16764156bed
DTSTAMP:20260420T063307Z
LOCATION:Pekalongan
DESCRIPTION:ayolari.in
URL;VALUE=URI:https://ayolari.in/lomba/kali-loji-marathon-run-2018-pekalongan
SUMMARY:Kali Loji Marathon Run 2018 Pekalongan
DTSTART;VALUE=DATE;TZID=ASIA-JAKARTA:20181111
DTEND;VALUE=DATE;TZID=ASIA-JAKARTA:20181112
TRANSP:TRANSPARENT
END:VEVENT
END:VCALENDAR