BEGIN:VCALENDAR
VERSION:2.0
PRODID:-//Adham Somantrie/AyoLari.in//NONSGML v1.0//EN
CALSCALE:GREGORIAN
BEGIN:VEVENT
UID:6eb6e75fddec0218351dc5c0c8464104
DTSTAMP:20260420T045755Z
LOCATION:Tangerang Selatan
DESCRIPTION:ayolari.in
URL;VALUE=URI:https://ayolari.in/lomba/bee-a-thon-2018
SUMMARY:Bee-A-Thon 2018
DTSTART;VALUE=DATE;TZID=ASIA-JAKARTA:20180715
DTEND;VALUE=DATE;TZID=ASIA-JAKARTA:20180716
TRANSP:TRANSPARENT
END:VEVENT
END:VCALENDAR