BEGIN:VCALENDAR
VERSION:2.0
PRODID:-//Adham Somantrie/AyoLari.in//NONSGML v1.0//EN
CALSCALE:GREGORIAN
BEGIN:VEVENT
UID:dabd8d2ce74e782c65a973ef76fd540b
DTSTAMP:20260420T023414Z
LOCATION:Sawahlunto
DESCRIPTION:ayolari.in
URL;VALUE=URI:https://ayolari.in/lomba/sawahlunto-coal-trail-marathon-2018
SUMMARY:Sawahlunto Coal Trail Marathon 2018
DTSTART;VALUE=DATE;TZID=ASIA-JAKARTA:20181027
DTEND;VALUE=DATE;TZID=ASIA-JAKARTA:20181028
TRANSP:TRANSPARENT
END:VEVENT
END:VCALENDAR