BEGIN:VCALENDAR
VERSION:2.0
PRODID:-//Adham Somantrie/AyoLari.in//NONSGML v1.0//EN
CALSCALE:GREGORIAN
BEGIN:VEVENT
UID:7d771e0e8f3633ab54856925ecdefc5d
DTSTAMP:20260420T063213Z
LOCATION:Virtual Run
DESCRIPTION:ayolari.in
URL;VALUE=URI:https://ayolari.in/lomba/indonesia-wayang-series-july-subadra
SUMMARY:Indonesia Wayang Series: July - Subadra
DTSTART;VALUE=DATE;TZID=ASIA-JAKARTA:20180701
DTEND;VALUE=DATE;TZID=ASIA-JAKARTA:20180702
TRANSP:TRANSPARENT
END:VEVENT
END:VCALENDAR