BEGIN:VCALENDAR
VERSION:2.0
PRODID:-//Adham Somantrie/AyoLari.in//NONSGML v1.0//EN
CALSCALE:GREGORIAN
BEGIN:VEVENT
UID:a7d8ae4569120b5bec12e7b6e9648b86
DTSTAMP:20260420T081720Z
LOCATION:Yogyakarta
DESCRIPTION:ayolari.in
URL;VALUE=URI:https://ayolari.in/lomba/innside-merdeka-run-5k
SUMMARY:INNSIDE Merdeka Run 5K
DTSTART;VALUE=DATE;TZID=ASIA-JAKARTA:20180812
DTEND;VALUE=DATE;TZID=ASIA-JAKARTA:20180813
TRANSP:TRANSPARENT
END:VEVENT
END:VCALENDAR