BEGIN:VCALENDAR
VERSION:2.0
PRODID:-//Adham Somantrie/AyoLari.in//NONSGML v1.0//EN
CALSCALE:GREGORIAN
BEGIN:VEVENT
UID:36a1694bce9815b7e38a9dad05ad42e0
DTSTAMP:20260422T015559Z
LOCATION:Madiun
DESCRIPTION:ayolari.in
URL;VALUE=URI:https://ayolari.in/lomba/merah-putih-fun-run-2018
SUMMARY:Merah Putih Fun Run 2018
DTSTART;VALUE=DATE;TZID=ASIA-JAKARTA:20180826
DTEND;VALUE=DATE;TZID=ASIA-JAKARTA:20180827
TRANSP:TRANSPARENT
END:VEVENT
END:VCALENDAR