BEGIN:VCALENDAR
VERSION:2.0
PRODID:-//Adham Somantrie/AyoLari.in//NONSGML v1.0//EN
CALSCALE:GREGORIAN
BEGIN:VEVENT
UID:a113c1ecd3cace2237256f4c712f61b5
DTSTAMP:20260420T063306Z
LOCATION:Lombok
DESCRIPTION:ayolari.in
URL;VALUE=URI:https://ayolari.in/lomba/the-indonesian-national-armed-forces-international-marathon-2018
SUMMARY:The Indonesian National Armed Forces International Marathon 2018
DTSTART;VALUE=DATE;TZID=ASIA-JAKARTA:20181104
DTEND;VALUE=DATE;TZID=ASIA-JAKARTA:20181105
TRANSP:TRANSPARENT
END:VEVENT
END:VCALENDAR