BEGIN:VCALENDAR
VERSION:2.0
PRODID:-//Adham Somantrie/AyoLari.in//NONSGML v1.0//EN
CALSCALE:GREGORIAN
BEGIN:VEVENT
UID:2f29b6e3abc6ebdefb55456ea6ca5dc8
DTSTAMP:20260420T051223Z
LOCATION:Jakarta
DESCRIPTION:ayolari.in
URL;VALUE=URI:https://ayolari.in/lomba/spora-sport-and-creativity
SUMMARY:SPORA (Sport and Creativity)
DTSTART;VALUE=DATE;TZID=ASIA-JAKARTA:20180708
DTEND;VALUE=DATE;TZID=ASIA-JAKARTA:20180709
TRANSP:TRANSPARENT
END:VEVENT
END:VCALENDAR