BEGIN:VCALENDAR
VERSION:2.0
PRODID:-//Adham Somantrie/AyoLari.in//NONSGML v1.0//EN
CALSCALE:GREGORIAN
BEGIN:VEVENT
UID:a3fb4fbf9a6f9cf09166aa9c20cbc1ad
DTSTAMP:20260420T051224Z
LOCATION:Pariaman\, Sumatera Barat
DESCRIPTION:ayolari.in
URL;VALUE=URI:https://ayolari.in/lomba/5k-run-for-tigers
SUMMARY:5K-Run for Tigers
DTSTART;VALUE=DATE;TZID=ASIA-JAKARTA:20180729
DTEND;VALUE=DATE;TZID=ASIA-JAKARTA:20180730
TRANSP:TRANSPARENT
END:VEVENT
END:VCALENDAR