BEGIN:VCALENDAR
VERSION:2.0
PRODID:-//Adham Somantrie/AyoLari.in//NONSGML v1.0//EN
CALSCALE:GREGORIAN
BEGIN:VEVENT
UID:00e26af6ac3b1c1c49d7c3d79c60d000
DTSTAMP:20260420T081059Z
LOCATION:Yogyakarta
DESCRIPTION:ayolari.in
URL;VALUE=URI:https://ayolari.in/lomba/de-britto-fun-run-2018
SUMMARY:De Britto Fun Run 2018
DTSTART;VALUE=DATE;TZID=ASIA-JAKARTA:20180818
DTEND;VALUE=DATE;TZID=ASIA-JAKARTA:20180819
TRANSP:TRANSPARENT
END:VEVENT
END:VCALENDAR