BEGIN:VCALENDAR
VERSION:2.0
PRODID:-//Adham Somantrie/AyoLari.in//NONSGML v1.0//EN
CALSCALE:GREGORIAN
BEGIN:VEVENT
UID:6e7d2da6d3953058db75714ac400b584
DTSTAMP:20260420T045809Z
LOCATION:Bandung
DESCRIPTION:ayolari.in
URL;VALUE=URI:https://ayolari.in/lomba/paseo-run
SUMMARY:Paseo Run
DTSTART;VALUE=DATE;TZID=ASIA-JAKARTA:20180812
DTEND;VALUE=DATE;TZID=ASIA-JAKARTA:20180813
TRANSP:TRANSPARENT
END:VEVENT
END:VCALENDAR