BEGIN:VCALENDAR
VERSION:2.0
PRODID:-//Adham Somantrie/AyoLari.in//NONSGML v1.0//EN
CALSCALE:GREGORIAN
BEGIN:VEVENT
UID:38ca89564b2259401518960f7a06f94b
DTSTAMP:20260421T215219Z
LOCATION:Ciater\, Jawa Barat
DESCRIPTION:ayolari.in
URL;VALUE=URI:https://ayolari.in/lomba/wanadri-trail-run
SUMMARY:Wanadri Trail Run
DTSTART;VALUE=DATE;TZID=ASIA-JAKARTA:20180701
DTEND;VALUE=DATE;TZID=ASIA-JAKARTA:20180702
TRANSP:TRANSPARENT
END:VEVENT
END:VCALENDAR