BEGIN:VCALENDAR
VERSION:2.0
PRODID:-//Adham Somantrie/AyoLari.in//NONSGML v1.0//EN
CALSCALE:GREGORIAN
BEGIN:VEVENT
UID:16e6a3326dd7d868cbc926602a61e4d0
DTSTAMP:20260420T061531Z
LOCATION:Kudus
DESCRIPTION:ayolari.in
URL;VALUE=URI:https://ayolari.in/lomba/tiketcom-kudus-relay-marathon
SUMMARY:Tiket.com Kudus Relay Marathon 2018
DTSTART;VALUE=DATE;TZID=ASIA-JAKARTA:20181021
DTEND;VALUE=DATE;TZID=ASIA-JAKARTA:20181022
TRANSP:TRANSPARENT
END:VEVENT
END:VCALENDAR