BEGIN:VCALENDAR
VERSION:2.0
PRODID:-//Adham Somantrie/AyoLari.in//NONSGML v1.0//EN
CALSCALE:GREGORIAN
BEGIN:VEVENT
UID:0c048b3a434e49e655c1247efb389cec
DTSTAMP:20260420T051224Z
LOCATION:Jakarta
DESCRIPTION:ayolari.in
URL;VALUE=URI:https://ayolari.in/lomba/my-little-pony-friendship-run-2018
SUMMARY:My Little Pony Friendship Run 2018
DTSTART;VALUE=DATE;TZID=ASIA-JAKARTA:20180812
DTEND;VALUE=DATE;TZID=ASIA-JAKARTA:20180813
TRANSP:TRANSPARENT
END:VEVENT
END:VCALENDAR