BEGIN:VCALENDAR
VERSION:2.0
PRODID:-//Adham Somantrie/AyoLari.in//NONSGML v1.0//EN
CALSCALE:GREGORIAN
BEGIN:VEVENT
UID:e22312179bf43e61576081a2f250f845
DTSTAMP:20260421T203638Z
LOCATION:Bali
DESCRIPTION:ayolari.in
URL;VALUE=URI:https://ayolari.in/lomba/circle-k-run
SUMMARY:Circle K Run 2018
DTSTART;VALUE=DATE;TZID=ASIA-JAKARTA:20180729
DTEND;VALUE=DATE;TZID=ASIA-JAKARTA:20180730
TRANSP:TRANSPARENT
END:VEVENT
END:VCALENDAR