BEGIN:VCALENDAR
VERSION:2.0
PRODID:-//Adham Somantrie/AyoLari.in//NONSGML v1.0//EN
CALSCALE:GREGORIAN
BEGIN:VEVENT
UID:2b38c2df6a49b97f706ec9148ce48d86
DTSTAMP:20260421T203354Z
LOCATION:Alam Sutera\, Tangerang
DESCRIPTION:ayolari.in
URL;VALUE=URI:https://ayolari.in/lomba/new-balance-run-on-2018
SUMMARY:New Balance RUN ON 2018
DTSTART;VALUE=DATE;TZID=ASIA-JAKARTA:20180923
DTEND;VALUE=DATE;TZID=ASIA-JAKARTA:20180924
TRANSP:TRANSPARENT
END:VEVENT
END:VCALENDAR