BEGIN:VCALENDAR
VERSION:2.0
PRODID:-//Adham Somantrie/AyoLari.in//NONSGML v1.0//EN
CALSCALE:GREGORIAN
BEGIN:VEVENT
UID:09c6c3783b4a70054da74f2538ed47c6
DTSTAMP:20260421T203457Z
LOCATION:Virtual Run
DESCRIPTION:ayolari.in
URL;VALUE=URI:https://ayolari.in/lomba/riot-2nd-anniversary-run
SUMMARY:RIOT 2nd Anniversary Run
DTSTART;VALUE=DATE;TZID=ASIA-JAKARTA:20180729
DTEND;VALUE=DATE;TZID=ASIA-JAKARTA:20180730
TRANSP:TRANSPARENT
END:VEVENT
END:VCALENDAR