BEGIN:VCALENDAR
VERSION:2.0
PRODID:-//Adham Somantrie/AyoLari.in//NONSGML v1.0//EN
CALSCALE:GREGORIAN
BEGIN:VEVENT
UID:df0aab058ce179e4f7ab135ed4e641a9
DTSTAMP:20260420T100725Z
LOCATION:Surabaya
DESCRIPTION:ayolari.in
URL;VALUE=URI:https://ayolari.in/lomba/le-minerale-water-run-2018-surabaya
SUMMARY:Le Minerale Water Run 2018 Surabaya
DTSTART;VALUE=DATE;TZID=ASIA-JAKARTA:20180805
DTEND;VALUE=DATE;TZID=ASIA-JAKARTA:20180806
TRANSP:TRANSPARENT
END:VEVENT
END:VCALENDAR