BEGIN:VCALENDAR
VERSION:2.0
PRODID:-//Adham Somantrie/AyoLari.in//NONSGML v1.0//EN
CALSCALE:GREGORIAN
BEGIN:VEVENT
UID:a1d50185e7426cbb0acad1e6ca74b9aa
DTSTAMP:20260420T081725Z
LOCATION:Jakarta
DESCRIPTION:ayolari.in
URL;VALUE=URI:https://ayolari.in/lomba/le-minerale-water-run-2018-jakarta
SUMMARY:Le Minerale Water Run 2018 Jakarta
DTSTART;VALUE=DATE;TZID=ASIA-JAKARTA:20180722
DTEND;VALUE=DATE;TZID=ASIA-JAKARTA:20180723
TRANSP:TRANSPARENT
END:VEVENT
END:VCALENDAR