BEGIN:VCALENDAR
VERSION:2.0
PRODID:-//Adham Somantrie/AyoLari.in//NONSGML v1.0//EN
CALSCALE:GREGORIAN
BEGIN:VEVENT
UID:4588e674d3f0faf985047d4c3f13ed0d
DTSTAMP:20260420T022341Z
LOCATION:Jakarta
DESCRIPTION:ayolari.in
URL;VALUE=URI:https://ayolari.in/lomba/desari-10k
SUMMARY:DESARI 10K
DTSTART;VALUE=DATE;TZID=ASIA-JAKARTA:20180708
DTEND;VALUE=DATE;TZID=ASIA-JAKARTA:20180709
TRANSP:TRANSPARENT
END:VEVENT
END:VCALENDAR