BEGIN:VCALENDAR
VERSION:2.0
PRODID:-//Adham Somantrie/AyoLari.in//NONSGML v1.0//EN
CALSCALE:GREGORIAN
BEGIN:VEVENT
UID:f7f580e11d00a75814d2ded41fe8e8fe
DTSTAMP:20260421T203516Z
LOCATION:Virtual Run
DESCRIPTION:ayolari.in
URL;VALUE=URI:https://ayolari.in/lomba/fast-run
SUMMARY:Fast & Run
DTSTART;VALUE=DATE;TZID=ASIA-JAKARTA:20180617
DTEND;VALUE=DATE;TZID=ASIA-JAKARTA:20180618
TRANSP:TRANSPARENT
END:VEVENT
END:VCALENDAR